BEGIN:VCALENDAR
VERSION:2.0
PRODID:-//eventon.com NONSGML v1.0//EN
CALSCALE:GREGORIAN
METHOD:PUBLISH
BEGIN:VEVENT
UID:69e63f51662c7
DTSTAMP:20260420T145929Z
DTSTART:20260425T160000Z
DTEND:20260425T205000Z
LOCATION:
SUMMARY:عرض فيلم "محمد عبلة.. مؤرخ المدينة" في وكالة بهنا
DESCRIPTION:تنظم وكالة بهنا، بالتعاون مع باب م
 ر، عرض فيلم تسجيلي قصير بعنوان "محمد عبلة
 .. مؤرخ المدينة"، بحضور الفنان محمد عبلة، 
 من فعالية ثقافية تسلط الضوء على تجربته ا
 فنية ومسيرته الإبداعية. ويقام العرض يوم 
 لسبت 25 أبريل في تمام الساعة السابعة مساء
  داخل مقر وكالة بهنا بمنطقة المنشية. ويعق
 ب عرض الفيلم[..]\nhttps://www.babmsr.com/events/%d8%b9%d8%b1%d8%b
 6-%d9%81%d9%8a%d9%84%d9%85-%d9%85%d8%ad%d9%85%d8%af-%d8%b9%d8%a8%d9%84%d8%a
 9-%d9%85%d8%a4%d8%b1%d8%ae-%d8%a7%d9%84%d9%85%d8%af%d9%8a%d9%86%d8%a9-%d9%8
 1%d9%8a-%d9%88%d9%83%d8%a7%d9%84/
URL:https://www.babmsr.com/events/%d8%b9%d8%b1%d8%b6-%d9%81%d9%8a%d9%84%d9%85-%d9%85%d8%ad%d9%85%d8%af-%d8%b9%d8%a8%d9%84%d8%a9-%d9%85%d8%a4%d8%b1%d8%ae-%d8%a7%d9%84%d9%85%d8%af%d9%8a%d9%86%d8%a9-%d9%81%d9%8a-%d9%88%d9%83%d8%a7%d9%84/
END:VEVENT
END:VCALENDAR