BEGIN:VCALENDAR
VERSION:2.0
PRODID:-//eventon.com NONSGML v1.0//EN
CALSCALE:GREGORIAN
METHOD:PUBLISH
BEGIN:VEVENT
UID:69e5f51d814d6
DTSTAMP:20260420T094253Z
DTSTART:20260421T160000Z
DTEND:20260421T215000Z
LOCATION:
SUMMARY:أبي الحسن الشاذلي.. الطريق والرحلة".. ندوة ببيت السناري
DESCRIPTION:ينظم بيت السناري ندوة ثقافية بعنوا
 ن "أبي الحسن الشاذلي.. الطريق والرحلة"، تق
 مها الكاتبة والأديبة ريم بسيوني، ضمن سلس
 لة ندوات تهدف إلى إعادة قراءة التراث الصو
 في برؤية معاصرة. وتتناول الندوة سيرة الإم
 ام أبي الحسن الشاذلي ومسيرته الروحية وال
 كرية، من خلال طرح تساؤلات حول مفهوم "الطر
 يق" في الفكر الشاذلي، وطبيعة الرحلة الروح
 ية[..]\nhttps://www.babmsr.com/events/%d8%a3%d8%a8%d9%8a-%d8%a7%d9%84%d8%
 ad%d8%b3%d9%86-%d8%a7%d9%84%d8%b4%d8%a7%d8%b0%d9%84%d9%8a-%d8%a7%d9%84%d8%b
 7%d8%b1%d9%8a%d9%82-%d9%88%d8%a7%d9%84%d8%b1%d8%ad%d9%84%d8%a9-%d9%86%d8%af
 %d9%88/
URL:https://www.babmsr.com/events/%d8%a3%d8%a8%d9%8a-%d8%a7%d9%84%d8%ad%d8%b3%d9%86-%d8%a7%d9%84%d8%b4%d8%a7%d8%b0%d9%84%d9%8a-%d8%a7%d9%84%d8%b7%d8%b1%d9%8a%d9%82-%d9%88%d8%a7%d9%84%d8%b1%d8%ad%d9%84%d8%a9-%d9%86%d8%af%d9%88/
END:VEVENT
END:VCALENDAR