BEGIN:VCALENDAR
VERSION:2.0
PRODID:-//eventon.com NONSGML v1.0//EN
CALSCALE:GREGORIAN
METHOD:PUBLISH
BEGIN:VEVENT
UID:69e5f74b4c392
DTSTAMP:20260420T095211Z
DTSTART:20260419T160000Z
DTEND:20260419T215000Z
LOCATION:
SUMMARY: النسخة الثامنة من فعاليات “Climate Connect” في قنصلية
DESCRIPTION:يستضيف مبنى قنصلية، فعاليات النسخ
  الثامنة من Climate Connect "التواصل من أجل المن
 خ"، في أمسية حوارية بعنوان "هل يمكننا الت
 دث عن كوكبنا بينما العالم يحترق؟، والتي 
 جمع نخبة من الدبلوماسيين والباحثين والإ
 لاميين لمناقشة قضايا المناخ والسياسات و
 أثيرها على المجتمعات. وتنقسم الفعالية إل
 ى ثلاث جلسات رئيسية، تبدأ بجلسة حول مستقب
 ل الانتقال[..]\nhttps://www.babmsr.com/events/%d8%a7%d9%84%d9%86%d
 8%b3%d8%ae%d8%a9-%d8%a7%d9%84%d8%ab%d8%a7%d9%85%d9%86%d8%a9-%d9%85%d9%86-%d
 9%81%d8%b9%d8%a7%d9%84%d9%8a%d8%a7%d8%aa-climate-connect-%d9%81%d9%8a-%d9%8
 2/
URL:https://www.babmsr.com/events/%d8%a7%d9%84%d9%86%d8%b3%d8%ae%d8%a9-%d8%a7%d9%84%d8%ab%d8%a7%d9%85%d9%86%d8%a9-%d9%85%d9%86-%d9%81%d8%b9%d8%a7%d9%84%d9%8a%d8%a7%d8%aa-climate-connect-%d9%81%d9%8a-%d9%82/
END:VEVENT
END:VCALENDAR