BEGIN:VCALENDAR
VERSION:2.0
PRODID:-//eventon.com NONSGML v1.0//EN
CALSCALE:GREGORIAN
METHOD:PUBLISH
BEGIN:VEVENT
UID:69e906a5c196e
DTSTAMP:20260422T173429Z
DTSTART:20260417T160000Z
DTEND:20260417T215000Z
LOCATION:
SUMMARY:TUL8TE  على مسرح نادي الاتحاد السكندري
DESCRIPTION:يستعد الفنان توليت  TUL8TE لإحياء حفل
  غنائي ضخم في نادي الاتحاد السكندري، ضمن 
 ولته العالمية World Tour، في ليلة ينتظرها جمه
 ور الراب في عروس البحر المتوسط. ويقدم TUL8TE 
  توليت خلال الحفل مجموعة من أبرز أعماله ا
 لتي حققت انتشارا واسعا، في أجواء حماسية ت
 عكس طاقة موسيقى الراب والتفاعل المباشر م
  الجمهور.[..]\nhttps://www.babmsr.com/events/tul8te-%d8%b9%d9%84%d9
 %89-%d9%85%d8%b3%d8%b1%d8%ad-%d9%86%d8%a7%d8%af%d9%8a-%d8%a7%d9%84%d8%a7%d8
 %aa%d8%ad%d8%a7%d8%af-%d8%a7%d9%84%d8%b3%d9%83%d9%86%d8%af%d8%b1%d9%8a/
URL:https://www.babmsr.com/events/tul8te-%d8%b9%d9%84%d9%89-%d9%85%d8%b3%d8%b1%d8%ad-%d9%86%d8%a7%d8%af%d9%8a-%d8%a7%d9%84%d8%a7%d8%aa%d8%ad%d8%a7%d8%af-%d8%a7%d9%84%d8%b3%d9%83%d9%86%d8%af%d8%b1%d9%8a/
END:VEVENT
END:VCALENDAR