BEGIN:VCALENDAR
VERSION:2.0
PRODID:-//eventon.com NONSGML v1.0//EN
CALSCALE:GREGORIAN
METHOD:PUBLISH
BEGIN:VEVENT
UID:69e905aecc3f8
DTSTAMP:20260422T173022Z
DTSTART:20251203T160000Z
DTEND:20251207T180000Z
LOCATION:
SUMMARY:مهرجان "توت توت" أول فعالية مصرية متخصصة في كتب الأطفال
DESCRIPTION:ينطلق مهرجان "توت توت"، أول مهرجان 
 صري متخصص في كتب الأطفال، بالمعهد الفرنس
 ي بحي المنيرة، احتفالا باليوم العالمي لل
 ة العربية، حيث تحمل دورته الأولى شعار "ال
 حواديت أحلام" في إبراز مكانة اللغة والثقا
 فة العربية في أدب الطفل. ويتضمن المهرجان 
 عرضا لكتب الأطفال، إلى جانب برامج متنوعة
  تشمل عروضا فنية للصغار، وأنشطة[..]\nhttps://www.
 babmsr.com/events/%d9%85%d9%87%d8%b1%d8%ac%d8%a7%d9%86-%d8%aa%d9%88%d8%aa-%
 d8%aa%d9%88%d8%aa-%d8%a3%d9%88%d9%84-%d9%81%d8%b9%d8%a7%d9%84%d9%8a%d8%a9-%
 d9%85%d8%b5%d8%b1%d9%8a%d8%a9-%d9%85%d8%aa%d8%ae%d8%b5%d8%b5/
URL:https://www.babmsr.com/events/%d9%85%d9%87%d8%b1%d8%ac%d8%a7%d9%86-%d8%aa%d9%88%d8%aa-%d8%aa%d9%88%d8%aa-%d8%a3%d9%88%d9%84-%d9%81%d8%b9%d8%a7%d9%84%d9%8a%d8%a9-%d9%85%d8%b5%d8%b1%d9%8a%d8%a9-%d9%85%d8%aa%d8%ae%d8%b5%d8%b5/
END:VEVENT
END:VCALENDAR